Workbook
Name cgm: 'CG and Roll'!#REF!
Name m_1: 'CG and Roll'!#REF!
Name m_2: 'CG and Roll'!#REF!
Name x_1: 'CG and Roll'!#REF!
Name xcm: 'CG and Roll'!$C$17

Sheet CG and Roll
B1: Corner Weight and CG height change calculator
B3: Corner Weights
B4: FL | C4: 915 | D4: 901 | E4: FR | F4: =SUM(C4:D4)/SUM(C4:D5) -> 0.47714136
B5: RL | C5: 1015 | D5: 975 | E5: RR | F5: =SUM(C5:D5)/SUM(C4:D5) -> 0.52285864
C6: =SUM(C4:C5)/SUM(C4:D5) -> 0.50709406 | D6: =SUM(D4:D5)/SUM(C4:D5) -> 0.49290594
B8: Chassis Setup | H8: Distance from centerpoint
B9: mass | C9: =SUM(C4:D5) -> 3806 | D9: lb | E9: 200 | F9: lb driver | I9: x (width) | J9: y (length)
B10: wheelbase | C10: 2731 | D10: mm | E10: =C10/25.4 -> 107.51969 | F10: in | H10: FL wheel | I10: =E11/2-E13/2 -> 29.88189 | J10: =E10/2 -> 53.759843 | K10: in
B11: front track outer | C11: 1763 | D11: mm | E11: =C11/25.4 -> 69.409449 | F11: in | H11: RL wheel | I11: =E12/2-E14/2 -> 29.232283 | J11: =-E10/2 -> -53.759843 | K11: in
B12: rear track outer | C12: 1730 | D12: mm | E12: =C12/25.4 -> 68.110236 | F12: in | H12: FR wheel | I12: =-E11/2+E13/2 -> -29.88189 | J12: =E10/2 -> 53.759843 | K12: in
B13: Front tire | C13: 245 | D13: mm | E13: =C13/25.4 -> 9.6456693 | F13: in | H13: RR wheel | I13: =-E12/2+E14/2 -> -29.232283 | J13: =-E10/2 -> -53.759843 | K13: in
B14: Rear tire | C14: 245 | D14: mm | E14: =C14/25.4 -> 9.6456693 | F14: in
B16: CG Info
B17: CG height | C17: 21.25 | D17: in
B19: Weight Additions/Reductions | G19: (wrt center between wheels)
B20: Item | C20: weight | D20: x: L (+) R (-) | E20: y: F (+) R (-) | F20: z: height
B21: e36 Washer tank | C21: -10 | D21: -24 | E21: 42 | F21: 30 | G21: Tank, pump, bracket | O21: =D21*-1 -> 24
B22: M3 Washer tank | C22: 10 | D22: -26 | E22: 68 | F22: 12 | G22: Tank, pump | O22: =D22*-1 -> 26
B23: Roof Rack | C23: -50 | D23: 0 | E23: -36 | F23: 62 | G23: Cross bars (20) + bike racks (11+14) + rails (10) | O23: =D23*-1 -> 0
B24: Spare Tire | C24: -26 | D24: -1 | E24: -74 | F24: 12.5 | G24: Donut spare | O24: =D24*-1 -> 1
B25: Trunk stuff | C25: -17 | D25: -1 | E25: -74 | F25: 20 | G25: Daily duty things | O25: =D25*-1 -> 1
B26: Windsheild cowl | C26: -6 | D26: 0 | E26: 42 | F26: 30 | G26: Slon brace savings | O26: =D26*-1 -> 0
B27: Muffler | D27: 22 | E27: -76 | F27: 16 | G27: e36 M3 (48) -> SS dual 2.5" (28) | O27: =D27*-1 -> -22
B28: Battery | C28: -30 | D28: -24 | E28: -76 | F28: 20 | G28: 49lb OEM -> 18.5lb antigravity | O28: =D28*-1 -> 24
B29: Hitch | C29: 18 | D29: 0 | E29: -90 | F29: 20 | G29: BMW/Westfalia aluminum (10?) | O29: =D29*-1 -> 0
B30: V-brace | C30: 5 | D30: 0 | E30: -42 | F30: 6 | G30: Brace and brackets (5?) | O30: =D30*-1 -> 0
B31: Vincebar | C31: 5 | D31: 0 | E31: -58 | F31: 22 | G31: Stealth epoxy | O31: =D31*-1 -> 0
B32: Hotchkis front bar | C32: -4 | D32: 0 | E32: 61 | F32: 10 | G32: Metal xi sway brackets, CSL rubbers | O32: =D32*-1 -> 0
B33: Fuel | C33: -50 | D33: 0 | E33: -36 | F33: 20 | G33: Half tank ~50lb. Baseline is full tank | O33: =D33*-1 -> 0
C34: =SUM(C21:C33) -> -155 | D34: lb
B36: Relative CG Calculations | H36: CG is…
B37: New CG weight | C37: =C9+SUM(C21:C33) -> 3651 | D37: lb | E37: =C37-E9 -> 3451 | F37: w/o driver | H37: =AVERAGE(I10:I11)-C45 -> 28.918731 | I37: in from left track
B38: New CG height | C38: =E45 -> 20.677212 | D38: in | H38: =AVERAGE(I10:I11)+C45 -> 30.195443 | I38: in from right track
B39: New CG diff | C39: =C38-xcm -> -0.57278828 | D39: in | H39: =-D45+J10 -> 54.485181 | I39: in from front axle
B40: CG moved L-R | C40: =C45-C44 -> 0.22121523 | D40: in | E40: + is Left | H40: =D45+J10 -> 53.034504 | I40: in from rear axle
B41: CG moved F-R | C41: =D45-D44 -> 1.7324153 | D41: in | E41: + is Forward
C43: x: L (+) R (-) | D43: y: F (+) R (-) | E43: z: height
B44: X-Y center mass | C44: =(C4*I10+C5*I11+D4*I12+D5*I13)/C9 -> 0.41714078 | D44: =(C4*J10+C5*J11+D4*J12+D5*J13)/C9 -> -2.4577542 | E44: =xcm -> 21.25 | F44: in | G44: no weight changes | O44: =C44*-1 -> -0.41714078
B45: X-Y center mass | C45: =(C4*I10+C5*I11+D4*I12+D5*I13+C21*D21+C22*D22+C23*D23+C24*D24+C25*D25+C26*D26+C27*D27+C28*D28+C29*D29+C30*D30+C31*D31+C32*D32+C33*D33)/(C9+SUM(C21:C33)) -> 0.63835601 | D45: =(C4*J10+C5*J11+D4*J12+D5*J13+C21*E21+C22*E22+C23*E23+C24*E24+C25*E25+C26*E26+C27*E27+C28*E28+C29*E29+C30*E30+C31*E31+C32*E32+C33*E33)/(C9+SUM(C21:C33)) -> -0.72533898 | E45: =(xcm*C9+C21*F21+C23*F23+C24*F24+C25*F25+C26*F26+C27*F27+C28*F28+C29*F29+C30*F30+C31*F31+C32*F32+C33*F33)/(C9+SUM(C21:C33)) -> 20.677212 | F45: in | G45: with weight changes | O45: =C45*-1 -> -0.63835601
B46: (wrt center between wheels)
...

Sheet Roll Center Heights
B3: Front
A4: Height | B4: Roll Center Height (mm) | C4: Roll Moment Arm (in) | D4: Roll Moment Change | E4: Front Camber | F4: Front Track
A5: + 1" | B5: 95.65 | C5: ='CG and Roll'!$C$38-(B5/25.4) -> 16.911464 | D5: =C5/$C$7-1 -> -0.11687883 | E5: -1.94 | F5: 1505.4
A6: + .5" | B6: 67.45 | C6: ='CG and Roll'!$C$38-(B6/25.4) -> 18.0217 | D6: =C6/$C$7-1 -> -0.058901996 | E6: -2.23 | F6: 1508.1
A7: 'Stock' | B7: 38.8 | C7: ='CG and Roll'!$C$38-(B7/25.4) -> 19.149653 | D7: =C7/$C$7-1 -> 0 | E7: -2.5 | F7: 1509.9
A8: - .5" | B8: 9.62 | C8: ='CG and Roll'!$C$38-(B8/25.4) -> 20.298472 | D8: =C8/$C$7-1 -> 0.059991631 | E8: -2.74 | F8: 1510.7
A9: - 1" | B9: -20.2 | C9: ='CG and Roll'!$C$38-(B9/25.4) -> 21.472487 | D9: =C9/$C$7-1 -> 0.12129905 | E9: -2.96 | F9: 1510.6
A10: - 1.5" | B10: -50.8 | C10: ='CG and Roll'!$C$38-(B10/25.4) -> 22.677212 | D10: =C10/$C$7-1 -> 0.18421008 | E10: -3.14 | F10: 1509.4
B26: Rear
A27: Height | B27: Roll Center Height (mm) | C27: Roll Moment Arm (in) | D27: Roll Moment Change | E27: Rear Camber | F27: Rear Track
A28: + 1" | B28: 315.9 | C28: ='CG and Roll'!$C$38-(B28/25.4) -> 8.2402038 | D28: =C28/$C$30-1 -> -0.13404982 | E28: 0.37 | F28: 1473.5
A29: + .5" | B29: 299.7 | C29: ='CG and Roll'!$C$38-(B29/25.4) -> 8.8779991 | D29: =C29/$C$30-1 -> -0.067024911 | E29: -0.52 | F29: 1484.1
A30: 'Stock' | B30: 283.5 | C30: ='CG and Roll'!$C$38-(B30/25.4) -> 9.5157944 | D30: =C30/$C$30-1 -> 0 | E30: -1.4 | F30: 1494
A31: - .5" | B31: 267.5 | C31: ='CG and Roll'!$C$38-(B31/25.4) -> 10.145716 | D31: =C31/$C$30-1 -> 0.066197443 | E31: -2.28 | F31: 1503.3
A32: - 1" | B32: 251.6 | C32: ='CG and Roll'!$C$38-(B32/25.4) -> 10.7717 | D32: =C32/$C$30-1 -> 0.13198115 | E32: -3.15 | F32: 1512.1
A33: - 1.5" | B33: 235.7 | C33: ='CG and Roll'!$C$38-(B33/25.4) -> 11.397684 | D33: =C33/$C$30-1 -> 0.19776486 | E33: -4.01 | F33: 1520.2
